BEGIN:VCALENDAR
VERSION:2.0
PRODID:-//hacksw/handcal//NONSGML v1.0//EN
BEGIN:VEVENT
SUMMARY:TDJV MEGEVE
UID:786a4860-2dd0-45ee-b167-2208ef231314
DTSTART:20260829T220000Z
DTEND:20260830T220000Z
LOCATION:Localisation   
CATEGORIES:Sportif
STATUS:
DESCRIPTION:<p>EPREUVES XCE ET  XC</p>
URL;VALUE=URI:https://www.veloclubrumillien.com/evenements/2026/08/30/tdjv-megeve-2430400
END:VEVENT
END:VCALENDAR
