BEGIN:VCALENDAR
VERSION:2.0
PRODID:-//hacksw/handcal//NONSGML v1.0//EN
BEGIN:VEVENT
SUMMARY:TRJV LES KARELLIS
UID:00aa20f1-1271-4f21-ab92-04715e9afcf7
DTSTART:20260703T220000Z
DTEND:20260705T220000Z
LOCATION:Localisation   
CATEGORIES:Sportif
STATUS:
URL;VALUE=URI:https://www.veloclubrumillien.com/evenements/2026/07/04/trjv-les-karellis-2430411
END:VEVENT
END:VCALENDAR
