BEGIN:VCALENDAR
VERSION:2.0
PRODID:-//hacksw/handcal//NONSGML v1.0//EN
BEGIN:VEVENT
SUMMARY:TDJV ANNECY- SEMNOZ
UID:b33587e7-e94a-4adb-a907-38eeec83e5b6
DTSTART:20260627T220000Z
DTEND:20260628T220000Z
LOCATION:Localisation STATION  SEMNOZ  ANNECY
CATEGORIES:Sportif
STATUS:
DESCRIPTION:<p>EPREUVES TRIAL ET XC</p>
 
 <p> </p>
 
 <p><a
 href="https://annecy-cc.com/tdjv-annecy-semnoz-2026" target="_blank"
 rel="noreferrer
 noopener">https://annecy-cc.com/tdjv-annecy-semnoz-2026</a></p>
URL;VALUE=URI:https://www.veloclubrumillien.com/evenements/2026/06/28/tdjv-annecy-semnoz-2430399
END:VEVENT
END:VCALENDAR
