BEGIN:VCALENDAR
VERSION:2.0
PRODID:-//hacksw/handcal//NONSGML v1.0//EN
BEGIN:VEVENT
SUMMARY:TDJV COL DES MOISES
UID:0c653292-7010-4395-a342-c1b94d3ecdee
DTSTART:20260620T220000Z
DTEND:20260621T220000Z
LOCATION:Localisation foyer des moises  Habere Poche
CATEGORIES:Sportif
STATUS:
DESCRIPTION:<p>EPREUVES DH ET XC </p>
 
 <p>Retrait des dossards 8H au
 foyer des Moises</p>
 
 <p>Debut des epreuves 8h30 </p>
 
 <p>Contact:
 info#vttleman.fr</p>
URL;VALUE=URI:https://www.veloclubrumillien.com/evenements/2026/06/21/tdjv-col-des-moises-2430397
END:VEVENT
END:VCALENDAR
