BEGIN:VCALENDAR
VERSION:2.0
PRODID:-//hacksw/handcal//NONSGML v1.0//EN
BEGIN:VEVENT
SUMMARY:COUPE AURA BLANZAC
UID:4f923dfb-582a-414b-92b1-7adf2155e3f2
DTSTART:20260620T220000Z
DTEND:20260621T220000Z
LOCATION:Localisation   
CATEGORIES:Sportif
STATUS:
URL;VALUE=URI:https://www.veloclubrumillien.com/evenements/2026/06/21/coupe-aura-blanzac-2430416
END:VEVENT
END:VCALENDAR
