BEGIN:VCALENDAR
VERSION:2.0
PRODID:-//hacksw/handcal//NONSGML v1.0//EN
BEGIN:VEVENT
SUMMARY:COUPE AURA STE SIGOLENE
UID:86a79d6b-c9cf-48c6-9e68-f97f7d132e41
DTSTART:20260613T220000Z
DTEND:20260614T220000Z
LOCATION:Localisation   
CATEGORIES:Sportif
STATUS:
URL;VALUE=URI:https://www.veloclubrumillien.com/evenements/2026/06/14/coupe-aura-ste-sigolene-2430415
END:VEVENT
END:VCALENDAR
