BEGIN:VCALENDAR
VERSION:2.0
PRODID:-//hacksw/handcal//NONSGML v1.0//EN
BEGIN:VEVENT
SUMMARY:TDJV PAYS DE GAVOT
UID:5130c699-4e1f-4f6e-aad9-b9aece92e419
DTSTART:20260530T220000Z
DTEND:20260531T220000Z
LOCATION:Localisation gymnase du gavot  Saint paul en chablais
CATEGORIES:Sportif
STATUS:
DESCRIPTION:<p>EPREUVE DE TRIAL ET XC</p>
 
 <p>Retrait des dossards a
 7H30 au gymnase du Gavot</p>
 
 <p>Debut des epreuves
 8h30</p>
 
 <p> </p>
 
 <p><span> </span>CONTACT :
 vttpaysdegavot@gmail.com</p>
URL;VALUE=URI:https://www.veloclubrumillien.com/evenements/2026/05/31/tdjv-pays-de-gavot-2430396
END:VEVENT
END:VCALENDAR
