BEGIN:VCALENDAR
VERSION:2.0
PRODID:-//hacksw/handcal//NONSGML v1.0//EN
BEGIN:VEVENT
SUMMARY:Randonnee du Cyclo club rumillien et 50 ans
UID:1b2c215d-d4ec-4aae-802f-ec2efaec09f3
DTSTART:20260405T220000Z
DTEND:20260406T220000Z
LOCATION:Localisation   
CATEGORIES:Sportif
STATUS:
URL;VALUE=URI:https://www.veloclubrumillien.com/evenements/2026/04/06/randonnee-du-cyclo-club-rumillien-et-50-ans-2435243
END:VEVENT
END:VCALENDAR
